BEGIN:VCALENDAR
VERSION:2.0
PRODID:-//Imkerverein Duisburg-Nord - ECPv6.15.20//NONSGML v1.0//EN
CALSCALE:GREGORIAN
METHOD:PUBLISH
X-WR-CALNAME:Imkerverein Duisburg-Nord
X-ORIGINAL-URL:https://imkerverein-duisburg.de
X-WR-CALDESC:Veranstaltungen für Imkerverein Duisburg-Nord
REFRESH-INTERVAL;VALUE=DURATION:PT1H
X-Robots-Tag:noindex
X-PUBLISHED-TTL:PT1H
BEGIN:VTIMEZONE
TZID:UTC
BEGIN:STANDARD
TZOFFSETFROM:+0000
TZOFFSETTO:+0000
TZNAME:UTC
DTSTART:20230101T000000
END:STANDARD
END:VTIMEZONE
BEGIN:VEVENT
DTSTART;TZID=UTC:20260130T180000
DTEND;TZID=UTC:20260130T180000
DTSTAMP:20260423T222351
CREATED:20260112T133431Z
LAST-MODIFIED:20260112T134939Z
UID:334-1769796000-1769796000@imkerverein-duisburg.de
SUMMARY:Neujahrsenpfang aller Duisburger Imker
DESCRIPTION:
URL:https://imkerverein-duisburg.de/event/neujahrsenpfang-aller-duisburger-imker/
LOCATION:Bienmuseum-Duisburg\, Schulalee 11\, Duisburg\, NRW
CATEGORIES:Bienenmuseum Duisburg
END:VEVENT
BEGIN:VEVENT
DTSTART;TZID=UTC:20240703T180000
DTEND;TZID=UTC:20240703T230000
DTSTAMP:20260423T222351
CREATED:20240307T123351Z
LAST-MODIFIED:20240307T123351Z
UID:153-1720029600-1720047600@imkerverein-duisburg.de
SUMMARY:Imkerverein Sommerfest Standbegehung
DESCRIPTION:Der Ort der Standbehgehung wird rechtzeitig bekannt gegeben.
URL:https://imkerverein-duisburg.de/event/imkerverein-sommerfest-standbegehung/
LOCATION:NRW
CATEGORIES:Imkerverein Duisburg-Nord
END:VEVENT
BEGIN:VEVENT
DTSTART;VALUE=DATE:20240706
DTEND;VALUE=DATE:20240707
DTSTAMP:20260423T222351
CREATED:20240306T084253Z
LAST-MODIFIED:20240306T084253Z
UID:183-1720224000-1720310399@imkerverein-duisburg.de
SUMMARY:175 Jahre Imkerverband Rheinland
DESCRIPTION:
URL:https://imkerverein-duisburg.de/event/175-jahre-imkerverband-rheinland/
LOCATION:Imkerverband Rheinland\, Im Bannen\, Mayen\, 56727\, Deutschland
CATEGORIES:sonstiges
END:VEVENT
END:VCALENDAR