BEGIN:VCALENDAR
VERSION:2.0
PRODID:-//Imkerverein Duisburg-Nord - ECPv6.15.20//NONSGML v1.0//EN
CALSCALE:GREGORIAN
METHOD:PUBLISH
X-WR-CALNAME:Imkerverein Duisburg-Nord
X-ORIGINAL-URL:https://imkerverein-duisburg.de
X-WR-CALDESC:Veranstaltungen für Imkerverein Duisburg-Nord
REFRESH-INTERVAL;VALUE=DURATION:PT1H
X-Robots-Tag:noindex
X-PUBLISHED-TTL:PT1H
BEGIN:VTIMEZONE
TZID:Europe/Paris
BEGIN:DAYLIGHT
TZOFFSETFROM:+0100
TZOFFSETTO:+0200
TZNAME:CEST
DTSTART:20250330T010000
END:DAYLIGHT
BEGIN:STANDARD
TZOFFSETFROM:+0200
TZOFFSETTO:+0100
TZNAME:CET
DTSTART:20251026T010000
END:STANDARD
BEGIN:DAYLIGHT
TZOFFSETFROM:+0100
TZOFFSETTO:+0200
TZNAME:CEST
DTSTART:20260329T010000
END:DAYLIGHT
BEGIN:STANDARD
TZOFFSETFROM:+0200
TZOFFSETTO:+0100
TZNAME:CET
DTSTART:20261025T010000
END:STANDARD
BEGIN:DAYLIGHT
TZOFFSETFROM:+0100
TZOFFSETTO:+0200
TZNAME:CEST
DTSTART:20270328T010000
END:DAYLIGHT
BEGIN:STANDARD
TZOFFSETFROM:+0200
TZOFFSETTO:+0100
TZNAME:CET
DTSTART:20271031T010000
END:STANDARD
END:VTIMEZONE
BEGIN:VEVENT
DTSTART;TZID=Europe/Paris:20260304T190000
DTEND;TZID=Europe/Paris:20260304T210000
DTSTAMP:20260420T115740
CREATED:20241007T071443Z
LAST-MODIFIED:20260112T132622Z
UID:277-1772650800-1772658000@imkerverein-duisburg.de
SUMMARY:Imkerverein Versammlung
DESCRIPTION:In dieser Versammlung wird die Jahreshauptversammlung nachgeholt\, die durch den Wintereinbruch im Januar ausgefallen ist nachgeholt
URL:https://imkerverein-duisburg.de/event/imkerverein-versammlung-6/
LOCATION:Ingenhammshof\, Am Ingenhammshof 1\, Duisburg\, NRW\, 47137\, Deutschland
CATEGORIES:Imkerverein Duisburg-Nord
END:VEVENT
END:VCALENDAR